BEGIN:VCALENDAR
VERSION:2.0
PRODID:GIGPRESS 2.0 WORDPRESS PLUGIN
CALSCALE:GREGORIAN
X-WR-TIMEZONE:Etc/GMT
METHOD:PUBLISH
BEGIN:VTIMEZONE
TZID:GMT
BEGIN:STANDARD
DTSTART:20071028T010000
TZOFFSETTO:+0000
TZOFFSETFROM:+0000
END:STANDARD
END:VTIMEZONE
BEGIN:VEVENT
SUMMARY:Damian Callinan in ‘The Merger’ at Hamilton Performing Arts Centre
DESCRIPTION:Tour: The Merger 2021 RAV Tour. All Ages
LOCATION:Hamilton Performing Arts Centre\, 113 Brown St\, Hamilton\, AU
UID:20210507T193000Z-518-konradmcc@gmail.com
URL:http://damiancallinan.com.au
DTSTART;VALUE=DATE-TIME;TZID=GMT:20210507T193000Z
DTEND;VALUE=DATE-TIME;TZID=GMT:20210507T193000Z
DTSTAMP:20210227T101112Z
END:VEVENT
END:VCALENDAR