BEGIN:VCALENDAR
VERSION:2.0
PRODID:GIGPRESS 2.0 WORDPRESS PLUGIN
CALSCALE:GREGORIAN
X-WR-TIMEZONE:Etc/GMT
METHOD:PUBLISH
BEGIN:VTIMEZONE
TZID:GMT
BEGIN:STANDARD
DTSTART:20071028T010000
TZOFFSETTO:+0000
TZOFFSETFROM:+0000
END:STANDARD
END:VTIMEZONE
BEGIN:VEVENT
SUMMARY:Damian Callinan in 'The Merger' at Downton Reserve
DESCRIPTION:Tour: The Merger 2021 RAV Tour. Box office: 03 5624 2456. Notes: Bookings through West Gippsland Arts Centre All Ages
LOCATION:Downton Reserve\, Yarragon\, AU
UID:20210513T193000Z-521-konradmcc@gmail.com
URL:http://damiancallinan.com.au
DTSTART;VALUE=DATE-TIME;TZID=GMT:20210513T193000Z
DTEND;VALUE=DATE-TIME;TZID=GMT:20210513T193000Z
DTSTAMP:20210227T101129Z
END:VEVENT
END:VCALENDAR