BEGIN:VCALENDAR
VERSION:2.0
PRODID:GIGPRESS 2.0 WORDPRESS PLUGIN
CALSCALE:GREGORIAN
X-WR-TIMEZONE:Etc/GMT
METHOD:PUBLISH
BEGIN:VTIMEZONE
TZID:GMT
BEGIN:STANDARD
DTSTART:20071028T010000
TZOFFSETTO:+0000
TZOFFSETFROM:+0000
END:STANDARD
END:VTIMEZONE
BEGIN:VEVENT
SUMMARY:Damian Callinan & Paul Calleja in 'The Wine Bluffs - Decanted' at Queen's Theatre
DESCRIPTION:Notes: World Premiere Season - Premium table seating packages available No Minors
LOCATION:Queen's Theatre\, Cnr Gilles Pde & Playhouse Lane\, Adelaide\, AU
UID:20210318T194500Z-569-konradmcc@gmail.com
URL:http://damiancallinan.com.au
DTSTART;VALUE=DATE-TIME;TZID=GMT:20210318T194500Z
DTEND;VALUE=DATE-TIME;TZID=GMT:20210318T194500Z
DTSTAMP:20210227T101011Z
END:VEVENT
END:VCALENDAR